BEGIN:VCALENDAR
VERSION:2.0
PRODID:-//Adrian Foster - ECPv6.15.20//NONSGML v1.0//EN
CALSCALE:GREGORIAN
METHOD:PUBLISH
X-WR-CALNAME:Adrian Foster
X-ORIGINAL-URL:https://adrian-foster.ca
X-WR-CALDESC:Événements pour Adrian Foster
REFRESH-INTERVAL;VALUE=DURATION:PT1H
X-Robots-Tag:noindex
X-PUBLISHED-TTL:PT1H
BEGIN:VTIMEZONE
TZID:America/Toronto
BEGIN:DAYLIGHT
TZOFFSETFROM:-0500
TZOFFSETTO:-0400
TZNAME:EDT
DTSTART:20240310T070000
END:DAYLIGHT
BEGIN:STANDARD
TZOFFSETFROM:-0400
TZOFFSETTO:-0500
TZNAME:EST
DTSTART:20241103T060000
END:STANDARD
BEGIN:DAYLIGHT
TZOFFSETFROM:-0500
TZOFFSETTO:-0400
TZNAME:EDT
DTSTART:20250309T070000
END:DAYLIGHT
BEGIN:STANDARD
TZOFFSETFROM:-0400
TZOFFSETTO:-0500
TZNAME:EST
DTSTART:20251102T060000
END:STANDARD
BEGIN:DAYLIGHT
TZOFFSETFROM:-0500
TZOFFSETTO:-0400
TZNAME:EDT
DTSTART:20260308T070000
END:DAYLIGHT
BEGIN:STANDARD
TZOFFSETFROM:-0400
TZOFFSETTO:-0500
TZNAME:EST
DTSTART:20261101T060000
END:STANDARD
BEGIN:DAYLIGHT
TZOFFSETFROM:-0500
TZOFFSETTO:-0400
TZNAME:EDT
DTSTART:20270314T070000
END:DAYLIGHT
BEGIN:STANDARD
TZOFFSETFROM:-0400
TZOFFSETTO:-0500
TZNAME:EST
DTSTART:20271107T060000
END:STANDARD
END:VTIMEZONE
BEGIN:VEVENT
DTSTART;TZID=America/Toronto:20260228T210000
DTEND;TZID=America/Toronto:20260301T020000
DTSTAMP:20260419T085037
CREATED:20260203T165954Z
LAST-MODIFIED:20260228T153552Z
UID:10000015-1772312400-1772330400@adrian-foster.ca
SUMMARY:Les Vespérales #14 : La Nuit de l'orgue ambient (Annie Bloch // Earth World Collaborative // Secondsight // André Pappathomas)
DESCRIPTION:Les Vespérales de l’orgue du Sacré-Cœur présente la « Nuit de l’orgue ambient ». Plongez-vous dans une expérience sensorielle totale avec une soirée de musique ambient et expérimentale pour orgue à tuyaux et électronique à l’église du Sacré-Cœur-de-Jésus. \nPrésenté dans le cadre de la Nuit blanche à Montréal 2026\, en collaboration avec Suoni per il popolo et le Concours international d’orgue du Canada\, avec le soutien du Goethe-Institut et le Festival MONTRÉAL EN LUMIÈRE. \nBillets\nEntrée gratuite (contribution volontaire / don suggéré de 15 $)\nRéservation suggérée \nDéroulement : \n20 h 30 – Ouverture des portes\n21 h – André Pappathomas (et invité·e·s)\n22 h – Annie Bloch (luvt)\n23 h – Collectif Earth-World (Espaces réels et imaginaires\, vol. 2)\n24 h – Secondsight\n1 h – André Pappathomas (et invité·e·s) \n\nAnnie Bloch\n« luvt »\nAvec « luvt » \, l’organiste et compositrice Annie Bloch (Cologne\, Allemagne) présente un projet dédié à l’univers sonore de l’orgue positif. Se limitant à seulement trois registres de tuyaux en bois\, Annie Bloch se concentre sur les détails du son. « luvt » – dérivé du mot allemand « luven » = « tourner vers le vent » – nous emmène dans un nouvel espace imaginaire et montre une facette de l’orgue à tuyaux qui peut être à la fois puissante et délicate. Annie Bloch combine une utilisation précise de la manipulation mécanique des registres avec une manipulation électronique\, dans le but d’offrir une expérience musicale complète. Ainsi\, « luvt » sort l’orgue positif de son contexte traditionnel et ouvre la porte à une nouvelle expérience sensorielle et émotionnelle de l’orgue. \nL’album « luvt » sortira chez OOH-sounds (Florence\, Italie) à l’automne 2026. \n \nAnnie Bloch est organiste\, compositrice et autrice-compositrice-interprète basée à Cologne\, en Allemagne. En tant qu’organiste\, elle se produit en solo et dans différentes formations\, travaillant principalement dans le domaine de l’improvisation. Dans ses improvisations composées\, Annie Bloch explore les états de changement. En recherchant les ambivalences dans un son et en s’y attardant\, sa musique résiste aux vérités singulières. Le matériau musical dont elle s’inspire est influencé par son engagement dans la scène musicale expérimentale\, mais aussi par les styles de composition de la musique pop et ambient. \nEn 2025\, elle a sorti son album pop pour orchestre de chambre « I DEPEND » chez Papercup Records (GER). En collaboration avec Emily Wittbrodt (violoncelle)\, elle a réalisé « The Mendelssohn-Project »\, un projet de recompositions et d’improvisations basées sur les œuvres pour orgue et violoncelle de Felix Mendelssohn Bartholdy\, qui est sorti chez sts|sts records en 2025. \nhttp://anniebloch.com/\nPhoto : Helge Articus \n\n \nCollectif Earth-World\n« Espaces réels et imaginaires\, vol. 2 »\nLe collectif Earth-World (avec les organistes et compositeurs Joel Peters et Adrian Foster et l’autrice-compositrice-interprète Naghmeh Shafiei) explore les résonances profondes de l’orgue à tuyaux à travers des transformations sonores utilisant du vent dynamique et un traitement électronique du son en direct\, avec des extraits de leurs projets récents et des nouvelles œuvres. Le résultat est une expérience sonore immersive qui brouille la frontière entre le monde réel et le monde imaginaire. \nhttps://www.earthworldcollaborative.com/\nPhoto : Brandon Patitucci \n\n \nSecondsight\nHajia Maa (Secondsight) est artiste multidisciplinaire\, chanteuse et professeure de pleine conscience et de méditation. Dans son univers artistique\, elle explore musique\, bien-être et mode\, entrelaçant chants méditatifs\, soul expérimental et ambiances sonores\, parfois accompagnés de pratiques guidées de respiration\, ainsi qu’une perspective sur les vêtements dans laquelle ils sont considérés comme des objets d’art à porter et comme un rituel de soin pour le corps et l’esprit. Ses performances invitent à l’écoute profonde\, au repos et à une intimité spirituelle incarnée. \nPhoto : Vladim Vilain \n\n \n𝐀𝐧𝐝𝐫𝐞́ 𝐏𝐚𝐩𝐩𝐚𝐭𝐡𝐨𝐦𝐚𝐬\nArtiste interdisciplinaire\, c’est à titre de directeur de choeur qu’André Pappathomas a développé et investi son travail de compositeur et de metteur en scène. À la direction de l’Ensemble vocal Mruta Mertsi\, il a conçu et produit un grand nombre de créations liées à d’autres disciplines artistiques : arts visuels\, théâtre\, littérature et danse (plus de 40 chorégraphes-interprètes ont collaboré aux nombreuses éditions de Choeur et chorégraphes). Parallèlement\, il a exploré avec les choristes\, une méthode d’improvisation contrôlée et découvert un potentiel insoupçonné dans cette forme d’expression musicale.\n\nSoprano\, Virginie MongeauPercussions et grandes cloches\, Olivier MarandaSaxophone soprano\, Marie-Claude de Chevigny Orgue\, Daniel LerouxInstruments à cordes inventés et basse électrique\, André Pappathomas\n\n\n\nPhoto: Brandon Patitucci
URL:https://adrian-foster.ca/event/les-vesperales-14-la-nuit-de-lorgue-ambient/
LOCATION:Église du Sacré-Cœur-de-Jésus\, 1471 rue Ontario E\, Montréal\, Québec\, H2L 1S3\, Canada
CATEGORIES:Concert,Les Vespérales de l'orgue du Sacré–Cœur
ATTACH;FMTTYPE=image/png:https://adrian-foster.ca/wp-content/uploads/2026/02/LA-NUIT-DE-LORGUE-AMBIENT-2.png
END:VEVENT
BEGIN:VEVENT
DTSTART;TZID=America/Toronto:20251220T200000
DTEND;TZID=America/Toronto:20251220T213000
DTSTAMP:20260419T085037
CREATED:20251123T222303Z
LAST-MODIFIED:20251128T203647Z
UID:10000011-1766260800-1766266200@adrian-foster.ca
SUMMARY:Les Vespérales #13 : Nuit ambient du solstice d'hiver (2e édition)
DESCRIPTION:Billets disponibles ici \nLes Vespérales de l’orgue du Sacré-Cœur présentent la deuxième édition de la Nuit ambient du solstice d’hiver\, avec des atmosphères sonores oniriques pour orgue\, électronique et plus encore. La programmation de cette année comprend l’ensemble Good Sine\, Beast\, Daniel Leroux et Adrian Foster (avec une installation spéciale sur le nouvel orgue expérimental LIMINARE). Venez souligner le solstice avec nous lors de ce concert exclusif et intime dans la tribune de l’orgue de l’église du Sacré-Cœur-de-Jésus. Asseyez-vous autour de la console de l’orgue et plongez-vous dans les résonances profondes de l’orgue à tuyaux\, les paysages sonores éthérés de l’électronique et l’acoustique enveloppante de cette magnifique église néogothique. Ce concert est une alternative apaisante et introspective aux autres concerts festifs du mois de décembre. \nRéservez vos billets dès aujourd’hui ! Les places sont limitées\, car seule la tribune de l’orgue sera ouverte. Admission générale (pas de places attribuées / premier arrivé\, premier servi). Les billets comprennent l’entrée au concert et un verre de cidre chaud ou de vin complémentaire. Afin de rendre cet événement aussi accessible que possible\, une option de billet gratuit est proposée. Si\, pour une raison quelconque\, votre situation financière ne vous permet pas d’acheter un billet\, nous vous encourageons à utiliser cette option\, sans avoir à fournir de justification. \nOuverture des portes : 19 h 30\nConcert : 20 h \nPrésenté en partenariat avec Suoni per il popolo et le Concours international d’orgue du Canada
URL:https://adrian-foster.ca/event/les-vesperales-13-nuit-ambient-du-solstice-dhiver-2e-edition/
LOCATION:Église du Sacré-Cœur-de-Jésus\, 1471 rue Ontario E\, Montréal\, Québec\, H2L 1S3\, Canada
CATEGORIES:Concert,Les Vespérales de l'orgue du Sacré–Cœur
ATTACH;FMTTYPE=image/png:https://adrian-foster.ca/wp-content/uploads/2025/11/Nuit-ambient-2e-edition-1.png
END:VEVENT
BEGIN:VEVENT
DTSTART;TZID=America/Toronto:20250927T193000
DTEND;TZID=America/Toronto:20250927T203000
DTSTAMP:20260419T085037
CREATED:20250907T215920Z
LAST-MODIFIED:20250907T221625Z
UID:10000005-1759001400-1759005000@adrian-foster.ca
SUMMARY:Les Vespérales #11 – Vent perdu (Collectif Sound-Rebellion)
DESCRIPTION:Billets : https://www.zeffy.com/fr-CA/ticketing/les-vesperales-de-lorgue-du-sacre-coeur-featuring-sound-rebellion-collective \nPréparez-vous à une soirée immersive d’improvisation expérimentale à l’orgue. Sound Rebellion est un collectif international composé de trois organistes (Elisabeth Hubmann\, Giulio Tosti et Adrian Foster) et du compositeur électroacoustique Michele del Prete. Avec leur approche créative unique\, spécifique au site et spatialisée\, Sound Rebellion offre un « événement sonore » inoubliable créé in situ dans la magnifique église du Sacré-Cœur-de-Jésus. Le concert mettra en vedette des paysages sonores entrelacés mettant en valeur l’orgue Casavant de 1928 de l’église et le tout nouvel orgue expérimental LIMINARE\, avec des transformations électroniques en direct. \nCet événement est présenté par Les Vespérales de l’orgue du Sacré-Cœur\, en partenariat avec le Concours international d’orgue du Canada et Suoni per il popolo\, avec le soutien de l’Office franco-québécois pour la jeunesse.
URL:https://adrian-foster.ca/event/vent-perdu-collectif-sound-rebellion/
LOCATION:Église du Sacré-Cœur-de-Jésus\, 1471 rue Ontario E\, Montréal\, Québec\, H2L 1S3\, Canada
CATEGORIES:Concert,Les Vespérales de l'orgue du Sacré–Cœur
ATTACH;FMTTYPE=image/png:https://adrian-foster.ca/wp-content/uploads/2025/09/Vent-Perdu-Banner.png
END:VEVENT
BEGIN:VEVENT
DTSTART;TZID=America/Toronto:20250920T193000
DTEND;TZID=America/Toronto:20250920T210000
DTSTAMP:20260419T085037
CREATED:20250907T221439Z
LAST-MODIFIED:20250907T222027Z
UID:10000007-1758396600-1758402000@adrian-foster.ca
SUMMARY:Vent perdu (Collectif Sound-Rebellion) – Chapelle du Séminaire
DESCRIPTION:Billets : https://mcq.org/decouvrir/activites/vent-perdu-experience-sonore/ \nCe concert présente des paysages sonores entrelacés mettant en vedette l’orgue Richard\, construit par les facteurs d’orgues Juget-Sinclair\, l’orgue Casavant de 1930 ainsi qu’un orgue expérimental LIMINARE\, avec des transformations électroniques en direct. \nLe collectif international Sound Rebellion s’intéresse à l’éphémère\, que ce soit dans l’histoire des lieux sacrés ou dans le son. Composé de trois organistes et d’un musicien électronique\, qui tissent leurs sons ensemble dans le cadre d’événements sonores\, le collectif négocie des questions sociopolitiques ainsi que des expériences purement humaines par le biais du son. Le concept du collectif est basé sur des orgues à tuyaux\, placés dans des églises et d’autres espaces majestueux. Dans leurs performances\, ils réagissent musicalement à l’architecture et aux œuvres d’art spécifiques au site et les laissent interférer avec les sons de l’orgue et des transformations électroniques en direct. Ils explorent toute la gamme des possibilités sonores et de l’acoustique des espaces avec des instruments fixes et transportables. \nOrgues : Elisabeth Hubmann\, Giulio Tosti\, Adrian Foster\nMusique électronique : Michele Del Prete \nPrésenté par le Musée de la civilisation en partenariat avec le Concours international d’orgue du Canada et avec le soutien de l’Office franco-québécois pour la jeunesse\, et du Fonds Hubert et Florence Laforge.
URL:https://adrian-foster.ca/event/vent-perdu-collectif-sound-rebellion-chapelle-du-seminaire/
LOCATION:Chapelle du Séminaire (Musée de la civilisation)\, 2 Côte de la Fabrique\, Québec\, Québec\, G1R 3V6\, Canada
CATEGORIES:Concert
ATTACH;FMTTYPE=image/png:https://adrian-foster.ca/wp-content/uploads/2025/09/Vent-perdu-Quebec.png
END:VEVENT
END:VCALENDAR